BEGIN:VCALENDAR
VERSION:2.0
PRODID:-//Morkaiko - ECPv6.15.20//NONSGML v1.0//EN
CALSCALE:GREGORIAN
METHOD:PUBLISH
X-WR-CALNAME:Morkaiko
X-ORIGINAL-URL:https://morkaiko.eus
X-WR-CALDESC:Events for Morkaiko
REFRESH-INTERVAL;VALUE=DURATION:PT1H
X-Robots-Tag:noindex
X-PUBLISHED-TTL:PT1H
BEGIN:VTIMEZONE
TZID:Europe/Helsinki
BEGIN:DAYLIGHT
TZOFFSETFROM:+0200
TZOFFSETTO:+0300
TZNAME:EEST
DTSTART:20240331T010000
END:DAYLIGHT
BEGIN:STANDARD
TZOFFSETFROM:+0300
TZOFFSETTO:+0200
TZNAME:EET
DTSTART:20241027T010000
END:STANDARD
BEGIN:DAYLIGHT
TZOFFSETFROM:+0200
TZOFFSETTO:+0300
TZNAME:EEST
DTSTART:20250330T010000
END:DAYLIGHT
BEGIN:STANDARD
TZOFFSETFROM:+0300
TZOFFSETTO:+0200
TZNAME:EET
DTSTART:20251026T010000
END:STANDARD
BEGIN:DAYLIGHT
TZOFFSETFROM:+0200
TZOFFSETTO:+0300
TZNAME:EEST
DTSTART:20260329T010000
END:DAYLIGHT
BEGIN:STANDARD
TZOFFSETFROM:+0300
TZOFFSETTO:+0200
TZNAME:EET
DTSTART:20261025T010000
END:STANDARD
END:VTIMEZONE
BEGIN:VEVENT
DTSTART;VALUE=DATE:20251025
DTEND;VALUE=DATE:20251026
DTSTAMP:20260425T180618
CREATED:20250216T170203Z
LAST-MODIFIED:20250216T174235Z
UID:7022-1761350400-1761436799@morkaiko.eus
SUMMARY:NATURA EZAGUTUZ. Familian mikologia
DESCRIPTION:NATUR TALDEAK ANTOLATUTA\n			\n			\n				\n				\n				\n				\n			\n				\n				\n				\n				\n				\n				\n				\n				\n				\n				\n				  \nOharra: \n			\n			\n				\n				\n				\n				\n				\n				\n				\n				\n				\n				\n			\n			\n				\n				\n				\n				\n			\n				\n				\n				\n				\n				\n				\n				\n				\n				\n				\n				Izen-emateak itxita daude ekitaldi honetarako.
URL:https://morkaiko.eus/ekitaldia/natura-ezagutuz-familian-mikologia/
LOCATION:Gipuzkoa
ATTACH;FMTTYPE=image/png:https://morkaiko.eus/wp-content/uploads/2022/01/manitahoja-copia-e1643477447173.png
ORGANIZER;CN="Morkaiko Mendizale Elkartea":MAILTO:morkaiko@morkaiko.eus
END:VEVENT
BEGIN:VEVENT
DTSTART;TZID=Europe/Helsinki:20251025T090000
DTEND;TZID=Europe/Helsinki:20251025T140000
DTSTAMP:20260425T180618
CREATED:20251005T155247Z
LAST-MODIFIED:20251005T165920Z
UID:7510-1761382800-1761400800@morkaiko.eus
SUMMARY:IRUROIN KOBAra bisita gidatua (MORKAIKO LEIZARPE Espeleologia Taldea)
DESCRIPTION:MORKAIKO LEIZARPE Espeleologia Taldea\nDATA ZEHAZTEKE… \n  \n			\n			\n				\n				\n				\n				\n			\n				\n				\n				\n				\n				\n				\n				\n				\n				\n				\n				  \n 
URL:https://morkaiko.eus/ekitaldia/iruroin-kobara-bisita-gidatua-morkaiko-leizarpe-espeleologia-taldea/
LOCATION:Gipuzkoa
ATTACH;FMTTYPE=image/png:https://morkaiko.eus/wp-content/uploads/2022/01/Espeleo-copia-4-e1643477170558.png
ORGANIZER;CN="Morkaiko Mendizale Elkartea":MAILTO:morkaiko@morkaiko.eus
END:VEVENT
END:VCALENDAR