BEGIN:VCALENDAR
VERSION:2.0
PRODID:-//Morkaiko - ECPv6.15.20//NONSGML v1.0//EN
CALSCALE:GREGORIAN
METHOD:PUBLISH
X-WR-CALNAME:Morkaiko
X-ORIGINAL-URL:https://morkaiko.eus
X-WR-CALDESC:Events for Morkaiko
REFRESH-INTERVAL;VALUE=DURATION:PT1H
X-Robots-Tag:noindex
X-PUBLISHED-TTL:PT1H
BEGIN:VTIMEZONE
TZID:Europe/Helsinki
BEGIN:DAYLIGHT
TZOFFSETFROM:+0200
TZOFFSETTO:+0300
TZNAME:EEST
DTSTART:20240331T010000
END:DAYLIGHT
BEGIN:STANDARD
TZOFFSETFROM:+0300
TZOFFSETTO:+0200
TZNAME:EET
DTSTART:20241027T010000
END:STANDARD
BEGIN:DAYLIGHT
TZOFFSETFROM:+0200
TZOFFSETTO:+0300
TZNAME:EEST
DTSTART:20250330T010000
END:DAYLIGHT
BEGIN:STANDARD
TZOFFSETFROM:+0300
TZOFFSETTO:+0200
TZNAME:EET
DTSTART:20251026T010000
END:STANDARD
BEGIN:DAYLIGHT
TZOFFSETFROM:+0200
TZOFFSETTO:+0300
TZNAME:EEST
DTSTART:20260329T010000
END:DAYLIGHT
BEGIN:STANDARD
TZOFFSETFROM:+0300
TZOFFSETTO:+0200
TZNAME:EET
DTSTART:20261025T010000
END:STANDARD
END:VTIMEZONE
BEGIN:VEVENT
DTSTART;VALUE=DATE:20251109
DTEND;VALUE=DATE:20251110
DTSTAMP:20260425T162301
CREATED:20250216T170245Z
LAST-MODIFIED:20250216T174220Z
UID:7025-1762646400-1762732799@morkaiko.eus
SUMMARY:NATURA EZAGUTUZ. Nagusientzako ibilaldia Akolan (Hernani)
DESCRIPTION:NATUR TALDEAK ANTOLATUTA\n			\n			\n				\n				\n				\n				\n			\n				\n				\n				\n				\n				\n				\n				\n				\n				\n				\n				  \nOharra:
URL:https://morkaiko.eus/ekitaldia/natura-ezagutuz-nagusientzako-ibilaldia-akolan-hernani/
LOCATION:Gipuzkoa
ATTACH;FMTTYPE=image/png:https://morkaiko.eus/wp-content/uploads/2022/01/manitahoja-copia-e1643477447173.png
ORGANIZER;CN="Morkaiko Mendizale Elkartea":MAILTO:morkaiko@morkaiko.eus
END:VEVENT
END:VCALENDAR