BEGIN:VCALENDAR
VERSION:2.0
PRODID:-//Morkaiko - ECPv6.15.20//NONSGML v1.0//EN
CALSCALE:GREGORIAN
METHOD:PUBLISH
X-WR-CALNAME:Morkaiko
X-ORIGINAL-URL:https://morkaiko.eus
X-WR-CALDESC:Events for Morkaiko
REFRESH-INTERVAL;VALUE=DURATION:PT1H
X-Robots-Tag:noindex
X-PUBLISHED-TTL:PT1H
BEGIN:VTIMEZONE
TZID:Europe/Helsinki
BEGIN:DAYLIGHT
TZOFFSETFROM:+0200
TZOFFSETTO:+0300
TZNAME:EEST
DTSTART:20240331T010000
END:DAYLIGHT
BEGIN:STANDARD
TZOFFSETFROM:+0300
TZOFFSETTO:+0200
TZNAME:EET
DTSTART:20241027T010000
END:STANDARD
BEGIN:DAYLIGHT
TZOFFSETFROM:+0200
TZOFFSETTO:+0300
TZNAME:EEST
DTSTART:20250330T010000
END:DAYLIGHT
BEGIN:STANDARD
TZOFFSETFROM:+0300
TZOFFSETTO:+0200
TZNAME:EET
DTSTART:20251026T010000
END:STANDARD
BEGIN:DAYLIGHT
TZOFFSETFROM:+0200
TZOFFSETTO:+0300
TZNAME:EEST
DTSTART:20260329T010000
END:DAYLIGHT
BEGIN:STANDARD
TZOFFSETFROM:+0300
TZOFFSETTO:+0200
TZNAME:EET
DTSTART:20261025T010000
END:STANDARD
END:VTIMEZONE
BEGIN:VEVENT
DTSTART;TZID=Europe/Helsinki:20251114T210000
DTEND;TZID=Europe/Helsinki:20251114T230000
DTSTAMP:20260425T162214
CREATED:20250928T171510Z
LAST-MODIFIED:20250928T171516Z
UID:7480-1763154000-1763161200@morkaiko.eus
SUMMARY:MENDI TOUR ELGOIBAR 2025
DESCRIPTION:Udazkeneko Mendi Emanaldi Zikloa (UMEZ)\n			\n			\n				\n				\n				\n				\n			\n				\n				\n				\n				\n				\n				\n				\n				\n				\n				\n				Bilboko Mendi Film Festivaleko azken edizioko pelikula on eta arrakastatsuenen emanaldia izango da\, egun bateko formatuan eta ikusleentzako pelikula-sorta interesgarri bat eskainiz. \n– Lekua: Herriko Antzokian– Ordua: 21:00– Iraupena: 120′– Sarrerak 5 € (Sarrerak saioaren egunean\, Herriko Antzokian)
URL:https://morkaiko.eus/ekitaldia/mendi-tour-elgoibar-2025-2/
LOCATION:Herriko Antzokia\, Pedro Muguruza Etorbidea\, 7\, Elgoibar\, Gipuzkoa\, 20870\, España
ATTACH;FMTTYPE=image/png:https://morkaiko.eus/wp-content/uploads/2022/01/UMEZ-copia-2-e1643477112520.png
ORGANIZER;CN="Morkaiko Mendizale Elkartea":MAILTO:morkaiko@morkaiko.eus
END:VEVENT
END:VCALENDAR