BEGIN:VCALENDAR
VERSION:2.0
PRODID:-//Morkaiko - ECPv6.15.20//NONSGML v1.0//EN
CALSCALE:GREGORIAN
METHOD:PUBLISH
X-ORIGINAL-URL:https://morkaiko.eus
X-WR-CALDESC:Events for Morkaiko
REFRESH-INTERVAL;VALUE=DURATION:PT1H
X-Robots-Tag:noindex
X-PUBLISHED-TTL:PT1H
BEGIN:VTIMEZONE
TZID:Europe/Helsinki
BEGIN:DAYLIGHT
TZOFFSETFROM:+0200
TZOFFSETTO:+0300
TZNAME:EEST
DTSTART:20250330T010000
END:DAYLIGHT
BEGIN:STANDARD
TZOFFSETFROM:+0300
TZOFFSETTO:+0200
TZNAME:EET
DTSTART:20251026T010000
END:STANDARD
BEGIN:DAYLIGHT
TZOFFSETFROM:+0200
TZOFFSETTO:+0300
TZNAME:EEST
DTSTART:20260329T010000
END:DAYLIGHT
BEGIN:STANDARD
TZOFFSETFROM:+0300
TZOFFSETTO:+0200
TZNAME:EET
DTSTART:20261025T010000
END:STANDARD
BEGIN:DAYLIGHT
TZOFFSETFROM:+0200
TZOFFSETTO:+0300
TZNAME:EEST
DTSTART:20270328T010000
END:DAYLIGHT
BEGIN:STANDARD
TZOFFSETFROM:+0300
TZOFFSETTO:+0200
TZNAME:EET
DTSTART:20271031T010000
END:STANDARD
END:VTIMEZONE
BEGIN:VEVENT
DTSTART;TZID=Europe/Helsinki:20260926T080000
DTEND;TZID=Europe/Helsinki:20260927T180000
DTSTAMP:20260425T162310
CREATED:20260215T171230Z
LAST-MODIFIED:20260215T171233Z
UID:7835-1790409600-1790532000@morkaiko.eus
SUMMARY:PIRINEOAK. Gorreta d’os Gabachos (2268 m) (2 EGUN)  (EKD)
DESCRIPTION:INFORMAZIO ETA IZEN EMATEA \nOharra: Irteera hau Eibarko Klub Deportiboarekin batera antolatzen da.
URL:https://morkaiko.eus/ekitaldia/pirineoak-gorreta-dos-gabachos-2268-m-2-egun-ekd/
LOCATION:Gipuzkoa
ATTACH;FMTTYPE=image/png:https://morkaiko.eus/wp-content/uploads/2022/01/Mendi-irteerak-nagusiak-copia.png
ORGANIZER;CN="Morkaiko Mendizale Elkartea":MAILTO:morkaiko@morkaiko.eus
END:VEVENT
END:VCALENDAR