BEGIN:VCALENDAR
VERSION:2.0
PRODID:-//Morkaiko - ECPv6.15.20//NONSGML v1.0//EN
CALSCALE:GREGORIAN
METHOD:PUBLISH
X-ORIGINAL-URL:https://morkaiko.eus
X-WR-CALDESC:Events for Morkaiko
REFRESH-INTERVAL;VALUE=DURATION:PT1H
X-Robots-Tag:noindex
X-PUBLISHED-TTL:PT1H
BEGIN:VTIMEZONE
TZID:Europe/Helsinki
BEGIN:DAYLIGHT
TZOFFSETFROM:+0200
TZOFFSETTO:+0300
TZNAME:EEST
DTSTART:20240331T010000
END:DAYLIGHT
BEGIN:STANDARD
TZOFFSETFROM:+0300
TZOFFSETTO:+0200
TZNAME:EET
DTSTART:20241027T010000
END:STANDARD
BEGIN:DAYLIGHT
TZOFFSETFROM:+0200
TZOFFSETTO:+0300
TZNAME:EEST
DTSTART:20250330T010000
END:DAYLIGHT
BEGIN:STANDARD
TZOFFSETFROM:+0300
TZOFFSETTO:+0200
TZNAME:EET
DTSTART:20251026T010000
END:STANDARD
BEGIN:DAYLIGHT
TZOFFSETFROM:+0200
TZOFFSETTO:+0300
TZNAME:EEST
DTSTART:20260329T010000
END:DAYLIGHT
BEGIN:STANDARD
TZOFFSETFROM:+0300
TZOFFSETTO:+0200
TZNAME:EET
DTSTART:20261025T010000
END:STANDARD
END:VTIMEZONE
BEGIN:VEVENT
DTSTART;VALUE=DATE:20250214
DTEND;VALUE=DATE:20250215
DTSTAMP:20260426T045722
CREATED:20250216T163345Z
LAST-MODIFIED:20250216T174654Z
UID:6960-1739491200-1739577599@morkaiko.eus
SUMMARY:IKASTAROAK. Espeleologia bertikalaren hastapenak
DESCRIPTION:  \n 
URL:https://morkaiko.eus/ekitaldia/ikastaroak-espeleologia-bertikalaren-hastapenak/
LOCATION:Gipuzkoa
ATTACH;FMTTYPE=image/png:https://morkaiko.eus/wp-content/uploads/2024/01/IKASTAROAK-e1706443467340.png
ORGANIZER;CN="Morkaiko Mendizale Elkartea":MAILTO:morkaiko@morkaiko.eus
END:VEVENT
BEGIN:VEVENT
DTSTART;TZID=Europe/Helsinki:20250216T093000
DTEND;TZID=Europe/Helsinki:20250216T140000
DTSTAMP:20260426T045722
CREATED:20250216T162831Z
LAST-MODIFIED:20250216T174646Z
UID:6954-1739698200-1739714400@morkaiko.eus
SUMMARY:HAUR IRTEERA.
DESCRIPTION:MENDIA:\nIBILBIDEA:\nNONDIK:
URL:https://morkaiko.eus/ekitaldia/haur-irteera-10/
LOCATION:Gipuzkoa
ATTACH;FMTTYPE=image/png:https://morkaiko.eus/wp-content/uploads/2022/01/Haurrak-copia-e1643477483549.png
ORGANIZER;CN="Morkaiko Mendizale Elkartea":MAILTO:morkaiko@morkaiko.eus
END:VEVENT
BEGIN:VEVENT
DTSTART;TZID=Europe/Helsinki:20250222T080000
DTEND;TZID=Europe/Helsinki:20250222T180000
DTSTAMP:20260426T045722
CREATED:20250111T182808Z
LAST-MODIFIED:20250216T174640Z
UID:6892-1740211200-1740247200@morkaiko.eus
SUMMARY:Mendi irteera + Sagardotegia (EKD)
DESCRIPTION:Mendi irteera + Sagardotegia\n			\n			\n				\n				\n				\n				\n			\n				\n				\n				\n				\n				\n				\n				\n				\n				\n				\n				IZEN EMATEA BETETA DAGO.  Itxaron zerrendan sartu nahi badezu idatzi morkaiko@morkaiko.eus helbidera email bat izen abizen eta telefono zenbakia adieraziz. Lekua libratuko balitz zurekin jarriko gerra kontaktuan \nOharra: Irteera hau Eibarko Klub Deportiboarekin batera antolatzen da. \n			\n			\n				\n				\n				\n				\n				\n				\n				\n				\n				\n				\n			\n			\n				\n				\n				\n				\n			\n				\n				\n				\n				\n				\n				\n				\n				\n				\n				\n				Izen-emateak itxita daude ekitaldi honetarako.
URL:https://morkaiko.eus/ekitaldia/mendi-irteera-sagardotegia-ekd/
LOCATION:Gipuzkoa
ATTACH;FMTTYPE=image/png:https://morkaiko.eus/wp-content/uploads/2022/01/Mendi-irteerak-nagusiak-copia.png
ORGANIZER;CN="Morkaiko Mendizale Elkartea":MAILTO:morkaiko@morkaiko.eus
END:VEVENT
END:VCALENDAR