BEGIN:VCALENDAR
VERSION:2.0
PRODID:-//Morkaiko - ECPv6.15.20//NONSGML v1.0//EN
CALSCALE:GREGORIAN
METHOD:PUBLISH
X-ORIGINAL-URL:https://morkaiko.eus
X-WR-CALDESC:Events for Morkaiko
REFRESH-INTERVAL;VALUE=DURATION:PT1H
X-Robots-Tag:noindex
X-PUBLISHED-TTL:PT1H
BEGIN:VTIMEZONE
TZID:Europe/Helsinki
BEGIN:DAYLIGHT
TZOFFSETFROM:+0200
TZOFFSETTO:+0300
TZNAME:EEST
DTSTART:20240331T010000
END:DAYLIGHT
BEGIN:STANDARD
TZOFFSETFROM:+0300
TZOFFSETTO:+0200
TZNAME:EET
DTSTART:20241027T010000
END:STANDARD
BEGIN:DAYLIGHT
TZOFFSETFROM:+0200
TZOFFSETTO:+0300
TZNAME:EEST
DTSTART:20250330T010000
END:DAYLIGHT
BEGIN:STANDARD
TZOFFSETFROM:+0300
TZOFFSETTO:+0200
TZNAME:EET
DTSTART:20251026T010000
END:STANDARD
BEGIN:DAYLIGHT
TZOFFSETFROM:+0200
TZOFFSETTO:+0300
TZNAME:EEST
DTSTART:20260329T010000
END:DAYLIGHT
BEGIN:STANDARD
TZOFFSETFROM:+0300
TZOFFSETTO:+0200
TZNAME:EET
DTSTART:20261025T010000
END:STANDARD
END:VTIMEZONE
BEGIN:VEVENT
DTSTART;VALUE=DATE:20250315
DTEND;VALUE=DATE:20250316
DTSTAMP:20260426T031701
CREATED:20250216T165923Z
LAST-MODIFIED:20250216T174633Z
UID:7009-1741996800-1742083199@morkaiko.eus
SUMMARY:NATURA EZAGUTUZ: Haurrentzako zuhaitz landaketa
DESCRIPTION:NATUR TALDEAK ANTOLATUTA\n			\n			\n				\n				\n				\n				\n			\n				\n				\n				\n				\n				\n				\n				\n				\n				\n				\n				  \nOharra: \n			\n			\n				\n				\n				\n				\n				\n				\n				\n				\n				\n				\n			\n			\n				\n				\n				\n				\n			\n				\n				\n				\n				\n				\n				\n				\n				\n				\n				\n				Izen-emateak itxita daude ekitaldi honetarako.
URL:https://morkaiko.eus/ekitaldia/natura-ezagutuz-haurrentzako-zuhaitz-landaketa/
LOCATION:Gipuzkoa
ATTACH;FMTTYPE=image/png:https://morkaiko.eus/wp-content/uploads/2022/01/manitahoja-copia-e1643477447173.png
ORGANIZER;CN="Morkaiko Mendizale Elkartea":MAILTO:morkaiko@morkaiko.eus
END:VEVENT
BEGIN:VEVENT
DTSTART;TZID=Europe/Helsinki:20250315T080000
DTEND;TZID=Europe/Helsinki:20250315T180000
DTSTAMP:20260426T031701
CREATED:20250216T165052Z
LAST-MODIFIED:20250216T174629Z
UID:6997-1742025600-1742061600@morkaiko.eus
SUMMARY:EMAKUME MENDI MARTXA
DESCRIPTION:Lila Elgoibarko Emakumeen Etxea-rekin elkarlanean antolatuko ekintza \nNortzuntzat: Elgoibarko biztanle guztiak\, bereziki emakumeak gonbidatuak \n\nAdin guztietakoak\nKultura/jatorri guztietakoak\nTaldeka (familian\, lagunekin etab.)\nBakarka\n\nZertarako: \n\nAisialdirako aukera hau bistaratzeko\, ibilbideak/paseoak/martxak egiteko ohitura ez dutenentzat.\nEmakumeen arteko saretzeari laguntzeko.\nEmakumeak arlo hontan ere bistaratzeko.\nEmakumeen ongizatea lantzeko.\n\nIbilbidea: Aukera desberdinak. Sallobenteko sekretuak oinarri\, 3 ibilbide egongo dira aukeran zailtasun gabekotik hasita \n			\n			\n				\n				\n				\n				\n			\n				\n				\n				\n				\n				\n				\n				\n				\n				\n				\n				\n			\n			\n				\n				\n				\n				\n				\n				\n				\n				\n				\n				\n			\n			\n				\n				\n				\n				\n			\n				\n				\n				\n				\n				\n				\n				\n				\n				\n				\n				Izen-emateak itxita daude ekitaldi honetarako.
URL:https://morkaiko.eus/ekitaldia/emakume-mendi-martxa/
LOCATION:Gipuzkoa
ATTACH;FMTTYPE=image/jpeg:https://morkaiko.eus/wp-content/uploads/2025/02/Lila.jpg
ORGANIZER;CN="Morkaiko Mendizale Elkartea":MAILTO:morkaiko@morkaiko.eus
END:VEVENT
BEGIN:VEVENT
DTSTART;TZID=Europe/Helsinki:20250316T093000
DTEND;TZID=Europe/Helsinki:20250316T140000
DTSTAMP:20260426T031701
CREATED:20250216T162854Z
LAST-MODIFIED:20250216T174623Z
UID:6956-1742117400-1742133600@morkaiko.eus
SUMMARY:HAUR IRTEERA.
DESCRIPTION:MENDIA:\nIBILBIDEA:\nNONDIK:
URL:https://morkaiko.eus/ekitaldia/haur-irteera-11/
LOCATION:Gipuzkoa
ATTACH;FMTTYPE=image/png:https://morkaiko.eus/wp-content/uploads/2022/01/Haurrak-copia-e1643477483549.png
ORGANIZER;CN="Morkaiko Mendizale Elkartea":MAILTO:morkaiko@morkaiko.eus
END:VEVENT
BEGIN:VEVENT
DTSTART;VALUE=DATE:20250329
DTEND;VALUE=DATE:20250330
DTSTAMP:20260426T031701
CREATED:20250216T165942Z
LAST-MODIFIED:20250216T174619Z
UID:7013-1743206400-1743292799@morkaiko.eus
SUMMARY:NATURA EZAGUTUZ. Geologia eta marearteko fauna
DESCRIPTION:NATUR TALDEAK ANTOLATUTA\n			\n			\n				\n				\n				\n				\n			\n				\n				\n				\n				\n				\n				\n				\n				\n				\n				\n				  \nOharra: \n			\n			\n				\n				\n				\n				\n				\n				\n				\n				\n				\n				\n			\n			\n				\n				\n				\n				\n			\n				\n				\n				\n				\n				\n				\n				\n				\n				\n				\n				Izen-emateak itxita daude ekitaldi honetarako.
URL:https://morkaiko.eus/ekitaldia/natura-ezagutuz-geologia-eta-marearteko-fauna/
LOCATION:Gipuzkoa
ATTACH;FMTTYPE=image/png:https://morkaiko.eus/wp-content/uploads/2022/01/manitahoja-copia-e1643477447173.png
ORGANIZER;CN="Morkaiko Mendizale Elkartea":MAILTO:morkaiko@morkaiko.eus
END:VEVENT
END:VCALENDAR