BEGIN:VCALENDAR
VERSION:2.0
PRODID:-//Morkaiko - ECPv6.15.20//NONSGML v1.0//EN
CALSCALE:GREGORIAN
METHOD:PUBLISH
X-ORIGINAL-URL:https://morkaiko.eus
X-WR-CALDESC:Events for Morkaiko
REFRESH-INTERVAL;VALUE=DURATION:PT1H
X-Robots-Tag:noindex
X-PUBLISHED-TTL:PT1H
BEGIN:VTIMEZONE
TZID:Europe/Helsinki
BEGIN:DAYLIGHT
TZOFFSETFROM:+0200
TZOFFSETTO:+0300
TZNAME:EEST
DTSTART:20250330T010000
END:DAYLIGHT
BEGIN:STANDARD
TZOFFSETFROM:+0300
TZOFFSETTO:+0200
TZNAME:EET
DTSTART:20251026T010000
END:STANDARD
BEGIN:DAYLIGHT
TZOFFSETFROM:+0200
TZOFFSETTO:+0300
TZNAME:EEST
DTSTART:20260329T010000
END:DAYLIGHT
BEGIN:STANDARD
TZOFFSETFROM:+0300
TZOFFSETTO:+0200
TZNAME:EET
DTSTART:20261025T010000
END:STANDARD
BEGIN:DAYLIGHT
TZOFFSETFROM:+0200
TZOFFSETTO:+0300
TZNAME:EEST
DTSTART:20270328T010000
END:DAYLIGHT
BEGIN:STANDARD
TZOFFSETFROM:+0300
TZOFFSETTO:+0200
TZNAME:EET
DTSTART:20271031T010000
END:STANDARD
END:VTIMEZONE
BEGIN:VEVENT
DTSTART;VALUE=DATE:20261004
DTEND;VALUE=DATE:20261005
DTSTAMP:20260425T161114
CREATED:20260215T170109Z
LAST-MODIFIED:20260215T170112Z
UID:7816-1791072000-1791158399@morkaiko.eus
SUMMARY:NATURA EZAGUTUZ. Landa kuadernoa Familiak
DESCRIPTION:NATUR TALDEAK ANTOLATUTA\n			\n			\n				\n				\n				\n				\n			\n				\n				\n				\n				\n				\n				\n				\n				\n				\n				\n				  \nOharra:
URL:https://morkaiko.eus/ekitaldia/natura-ezagutuz-landa-kuadernoa-familiak/
LOCATION:Gipuzkoa
ATTACH;FMTTYPE=image/png:https://morkaiko.eus/wp-content/uploads/2022/01/manitahoja-copia-e1643477447173.png
ORGANIZER;CN="Morkaiko Mendizale Elkartea":MAILTO:morkaiko@morkaiko.eus
END:VEVENT
BEGIN:VEVENT
DTSTART;TZID=Europe/Helsinki:20261010T080000
DTEND;TZID=Europe/Helsinki:20261012T180000
DTSTAMP:20260425T161114
CREATED:20260215T171325Z
LAST-MODIFIED:20260215T171409Z
UID:7836-1791619200-1791828000@morkaiko.eus
SUMMARY:Redeseko Parke Naturala (3 EGUN) (EKD)
DESCRIPTION:Val d’Aran – Maupas (3109m) – Vallée de Lys (Luchon)  \nOharra: Irteera hau Eibarko Klub Deportiboarekin batera antolatzen da. \nUztailak 25-26-27: Pirinioetara irteera (3 egun)
URL:https://morkaiko.eus/ekitaldia/pirineoak-redeseko-parke-naturala-3-egun-ekd/
LOCATION:Gipuzkoa
ATTACH;FMTTYPE=image/png:https://morkaiko.eus/wp-content/uploads/2022/01/Mendi-irteerak-nagusiak-copia.png
ORGANIZER;CN="Morkaiko Mendizale Elkartea":MAILTO:morkaiko@morkaiko.eus
END:VEVENT
BEGIN:VEVENT
DTSTART;TZID=Europe/Helsinki:20261025T093000
DTEND;TZID=Europe/Helsinki:20261025T140000
DTSTAMP:20260425T161114
CREATED:20260215T163801Z
LAST-MODIFIED:20260215T163804Z
UID:7775-1792920600-1792936800@morkaiko.eus
SUMMARY:HAUR IRTEERA.
DESCRIPTION:MENDIA:\nIBILBIDEA:\nNONDIK:
URL:https://morkaiko.eus/ekitaldia/haur-irteera-14/
LOCATION:Gipuzkoa
ATTACH;FMTTYPE=image/png:https://morkaiko.eus/wp-content/uploads/2022/01/Haurrak-copia-e1643477483549.png
ORGANIZER;CN="Morkaiko Mendizale Elkartea":MAILTO:morkaiko@morkaiko.eus
END:VEVENT
END:VCALENDAR