BEGIN:VCALENDAR
VERSION:2.0
PRODID:-//Morkaiko - ECPv6.15.20//NONSGML v1.0//EN
CALSCALE:GREGORIAN
METHOD:PUBLISH
X-WR-CALNAME:Morkaiko
X-ORIGINAL-URL:https://morkaiko.eus
X-WR-CALDESC:Events for Morkaiko
REFRESH-INTERVAL;VALUE=DURATION:PT1H
X-Robots-Tag:noindex
X-PUBLISHED-TTL:PT1H
BEGIN:VTIMEZONE
TZID:Europe/Helsinki
BEGIN:DAYLIGHT
TZOFFSETFROM:+0200
TZOFFSETTO:+0300
TZNAME:EEST
DTSTART:20250330T010000
END:DAYLIGHT
BEGIN:STANDARD
TZOFFSETFROM:+0300
TZOFFSETTO:+0200
TZNAME:EET
DTSTART:20251026T010000
END:STANDARD
BEGIN:DAYLIGHT
TZOFFSETFROM:+0200
TZOFFSETTO:+0300
TZNAME:EEST
DTSTART:20260329T010000
END:DAYLIGHT
BEGIN:STANDARD
TZOFFSETFROM:+0300
TZOFFSETTO:+0200
TZNAME:EET
DTSTART:20261025T010000
END:STANDARD
BEGIN:DAYLIGHT
TZOFFSETFROM:+0200
TZOFFSETTO:+0300
TZNAME:EEST
DTSTART:20270328T010000
END:DAYLIGHT
BEGIN:STANDARD
TZOFFSETFROM:+0300
TZOFFSETTO:+0200
TZNAME:EET
DTSTART:20271031T010000
END:STANDARD
END:VTIMEZONE
BEGIN:VEVENT
DTSTART;VALUE=DATE:20261108
DTEND;VALUE=DATE:20261109
DTSTAMP:20260425T143140
CREATED:20260215T165553Z
LAST-MODIFIED:20260215T165719Z
UID:7810-1794096000-1794182399@morkaiko.eus
SUMMARY:NATURA EZAGUTIZ: Baso irteera. Nagusiak
DESCRIPTION:NATUR TALDEAK ANTOLATUTA\n			\n			\n				\n				\n				\n				\n			\n				\n				\n				\n				\n				\n				\n				\n				\n				\n				\n				  \nOharra:
URL:https://morkaiko.eus/ekitaldia/natura-ezagutiz-baso-irteera-nagusiak/
ATTACH;FMTTYPE=image/png:https://morkaiko.eus/wp-content/uploads/2022/01/manitahoja-copia-e1643477447173.png
ORGANIZER;CN="Morkaiko Mendizale Elkartea":MAILTO:morkaiko@morkaiko.eus
END:VEVENT
BEGIN:VEVENT
DTSTART;TZID=Europe/Helsinki:20261111T190000
DTEND;TZID=Europe/Helsinki:20261111T210000
DTSTAMP:20260425T143140
CREATED:20260215T171547Z
LAST-MODIFIED:20260215T171600Z
UID:7846-1794423600-1794430800@morkaiko.eus
SUMMARY:UMEZ2026: Emanaldia 1
DESCRIPTION:Udazkeneko Mendi Emanaldi Zikloa (UMEZ)\n			\n			\n				\n				\n				\n				\n			\n				\n				\n				\n				\n				\n				\n				\n				\n				\n				\n				  \n 
URL:https://morkaiko.eus/ekitaldia/umez2026-emanaldia-1/
LOCATION:Kultur Etxean\, Kalebarren Plaza\, Elgoibar\, Gipuzkoa\, 20870
ATTACH;FMTTYPE=image/png:https://morkaiko.eus/wp-content/uploads/2022/01/UMEZ-copia-2-e1643477112520.png
ORGANIZER;CN="Morkaiko Mendizale Elkartea":MAILTO:morkaiko@morkaiko.eus
END:VEVENT
BEGIN:VEVENT
DTSTART;TZID=Europe/Helsinki:20261114T110000
DTEND;TZID=Europe/Helsinki:20261114T140000
DTSTAMP:20260425T143140
CREATED:20260215T165200Z
LAST-MODIFIED:20260215T165203Z
UID:7802-1794654000-1794664800@morkaiko.eus
SUMMARY:31. KARAKATEKO IGOERA
DESCRIPTION:Informazio gehio web-ean: https://morkaiko.eus/29-karakateko-igoera-2023ko-azaroaren-18an/ \n			\n			\n				\n				\n				\n				\n			\n				\n				\n				\n				\n				\n				\n				\n				\n				\n				\n				  \nProba era egokian antolatu ahal izateko BOLUNTARIOAK behar ditugu. \nLaguntzeko prest bazaude\, eman izena hemen azaroak 10 baino lehen… \nAnimatu ¡!!
URL:https://morkaiko.eus/ekitaldia/31-karakateko-igoera/
LOCATION:Plazako Frontoia frontisa\, Santa Ana Kalea\, 2\, Elgoibar\, Gipuzkoa\, 20870
ATTACH;FMTTYPE=image/png:https://morkaiko.eus/wp-content/uploads/2022/01/Trail-copia-e1643477368307.png
ORGANIZER;CN="Morkaiko Mendizale Elkartea":MAILTO:morkaiko@morkaiko.eus
END:VEVENT
BEGIN:VEVENT
DTSTART;TZID=Europe/Helsinki:20261115T093000
DTEND;TZID=Europe/Helsinki:20261115T140000
DTSTAMP:20260425T143140
CREATED:20260215T163647Z
LAST-MODIFIED:20260215T163833Z
UID:7772-1794735000-1794751200@morkaiko.eus
SUMMARY:HAUR IRTEERA.
DESCRIPTION:MENDIA:\nIBILBIDEA:\nNONDIK:
URL:https://morkaiko.eus/ekitaldia/haur-irteera-13/
ATTACH;FMTTYPE=image/png:https://morkaiko.eus/wp-content/uploads/2022/01/Haurrak-copia-e1643477483549.png
ORGANIZER;CN="Morkaiko Mendizale Elkartea":MAILTO:morkaiko@morkaiko.eus
END:VEVENT
BEGIN:VEVENT
DTSTART;TZID=Europe/Helsinki:20261118T190000
DTEND;TZID=Europe/Helsinki:20261118T210000
DTSTAMP:20260425T143140
CREATED:20260215T171641Z
LAST-MODIFIED:20260215T171644Z
UID:7850-1795028400-1795035600@morkaiko.eus
SUMMARY:UMEZ2026: Emanaldia 2
DESCRIPTION:Udazkeneko Mendi Emanaldi Zikloa (UMEZ)\n			\n			\n				\n				\n				\n				\n			\n				\n				\n				\n				\n				\n				\n				\n				\n				\n				\n				  \n 
URL:https://morkaiko.eus/ekitaldia/umez2026-emanaldia-2/
LOCATION:Kultur Etxean\, Kalebarren Plaza\, Elgoibar\, Gipuzkoa\, 20870
ATTACH;FMTTYPE=image/png:https://morkaiko.eus/wp-content/uploads/2022/01/UMEZ-copia-2-e1643477112520.png
ORGANIZER;CN="Morkaiko Mendizale Elkartea":MAILTO:morkaiko@morkaiko.eus
END:VEVENT
BEGIN:VEVENT
DTSTART;TZID=Europe/Helsinki:20261213T093000
DTEND;TZID=Europe/Helsinki:20261213T140000
DTSTAMP:20260425T143140
CREATED:20260215T163922Z
LAST-MODIFIED:20260215T163926Z
UID:7777-1797154200-1797170400@morkaiko.eus
SUMMARY:HAUR IRTEERA.
DESCRIPTION:MENDIA:\nIBILBIDEA:\nNONDIK:
URL:https://morkaiko.eus/ekitaldia/haur-irteera-15/
ATTACH;FMTTYPE=image/png:https://morkaiko.eus/wp-content/uploads/2022/01/Haurrak-copia-e1643477483549.png
ORGANIZER;CN="Morkaiko Mendizale Elkartea":MAILTO:morkaiko@morkaiko.eus
END:VEVENT
BEGIN:VEVENT
DTSTART;VALUE=DATE:20261231
DTEND;VALUE=DATE:20270101
DTSTAMP:20260425T143140
CREATED:20250216T171507Z
LAST-MODIFIED:20260317T151439Z
UID:7064-1798675200-1798761599@morkaiko.eus
SUMMARY:CATTMORKAIKO.  SAN SILVESTRE
DESCRIPTION:
URL:https://morkaiko.eus/ekitaldia/cattmorkaiko-san-silvestre-2/
ATTACH;FMTTYPE=image/png:https://morkaiko.eus/wp-content/uploads/2022/01/Trail-copia-e1643477368307.png
ORGANIZER;CN="Morkaiko Mendizale Elkartea":MAILTO:morkaiko@morkaiko.eus
END:VEVENT
END:VCALENDAR